BEGIN:VCALENDAR
VERSION:2.0
PRODID:icalendar-ruby
CALSCALE:GREGORIAN
METHOD:PUBLISH
BEGIN:VEVENT
DTSTAMP:20260424T000935Z
UID:21-1433306@flow-church.org
DTSTART:20260906T131500Z
DTEND:20260906T133000Z
CLASS:PUBLIC
CREATED:20260423T190548
DESCRIPTION:Join us for Children's ministry that ministers to the entire fa
 mily. Our actors create real world scenarios that illustrate biblical trut
 hs in a fun way to foster engagement while learning. All are welcome. 
LAST-MODIFIED:20260423T190548
LOCATION:live.flow-church.tv - online global campus
SUMMARY:Children's Church
URL;VALUE=URI:https://www.flow-church.org/events/childrens-church--21/2026-
 09-06
ATTACH;FILENAME=kitchen.png;FMTTYPE=image/png:https://dq5pwpg1q8ru0.cloudfr
 ont.net/2024/03/04/02/42/06/4688808e-8323-4674-9aeb-192e2be4d3eb/kitchen.p
 ng
END:VEVENT
END:VCALENDAR
